BEGIN:VCALENDAR
VERSION:2.0
PRODID:-//Events 2 Ride - ECPv6.15.20//NONSGML v1.0//EN
CALSCALE:GREGORIAN
METHOD:PUBLISH
X-WR-CALNAME:Events 2 Ride
X-ORIGINAL-URL:https://events2ride.eu
X-WR-CALDESC:Events for Events 2 Ride
REFRESH-INTERVAL;VALUE=DURATION:PT1H
X-Robots-Tag:noindex
X-PUBLISHED-TTL:PT1H
BEGIN:VTIMEZONE
TZID:Europe/Brussels
BEGIN:DAYLIGHT
TZOFFSETFROM:+0100
TZOFFSETTO:+0200
TZNAME:CEST
DTSTART:20250330T010000
END:DAYLIGHT
BEGIN:STANDARD
TZOFFSETFROM:+0200
TZOFFSETTO:+0100
TZNAME:CET
DTSTART:20251026T010000
END:STANDARD
BEGIN:DAYLIGHT
TZOFFSETFROM:+0100
TZOFFSETTO:+0200
TZNAME:CEST
DTSTART:20260329T010000
END:DAYLIGHT
BEGIN:STANDARD
TZOFFSETFROM:+0200
TZOFFSETTO:+0100
TZNAME:CET
DTSTART:20261025T010000
END:STANDARD
BEGIN:DAYLIGHT
TZOFFSETFROM:+0100
TZOFFSETTO:+0200
TZNAME:CEST
DTSTART:20270328T010000
END:DAYLIGHT
BEGIN:STANDARD
TZOFFSETFROM:+0200
TZOFFSETTO:+0100
TZNAME:CET
DTSTART:20271031T010000
END:STANDARD
END:VTIMEZONE
BEGIN:VEVENT
DTSTART;VALUE=DATE:20260206
DTEND;VALUE=DATE:20260427
DTSTAMP:20260425T033430
CREATED:20260106T205420Z
LAST-MODIFIED:20260416T160051Z
UID:10002692-1770336000-1777247999@events2ride.eu
SUMMARY:Art On Wheels - Italian & Belgian motorcycles
DESCRIPTION:Art on Wheels: Italian & Belgian Motorcycles – 6 febr tot 26 april 2026 in Squadra te Lier. \nEen must-see voor motorliefhebbers en designfans! \nDuik in een wereld van meer dan 70 historische motoren\, elk geselecteerd op hun verhaal\, design en authenticiteit. Ontdek hoe de iconische Vespa\, symbool van Italiaans design\, ook in België werd geproduceerd. Bewonder robuuste Belgische klassiekers en Italiaanse motoren die het land na WOII deden herleven\, een wereld waar techniek\, stijl en innovatie samenkomen. \nLaat je meevoeren door de wereld van racemotoren\, waarin België en Italië hun snelheid en esthetiek tentoonstellen\, en geniet van Italië’s speelse kant met motoren vernoemd naar dieren – van Vespa’s wesp tot Moto Guzzi’s haantje\, een poëtisch mechanisch bestiarium. \nKom en beleef de verhalen\, de passie en het vakmanschap op twee wielen! Met je ticket heb je toegang tot zowel Art on Wheels als de vaste collectie van het museum. Tickets op www.squadra.be \n 
URL:https://events2ride.eu/event/art-on-wheels-italian-belgian-motorcycles/
CATEGORIES:Oldtimer and classics Community,Vespa Community
ATTACH;FMTTYPE=image/jpeg:https://events2ride.eu/wp-content/uploads/2026-02-06-art-on-wheels-italian-belgian-motorcycles-scaled.jpg
END:VEVENT
BEGIN:VEVENT
DTSTART;VALUE=DATE:20260423
DTEND;VALUE=DATE:20260427
DTSTAMP:20260425T033430
CREATED:20250923T110240Z
LAST-MODIFIED:20260416T155757Z
UID:10002163-1776902400-1777247999@events2ride.eu
SUMMARY:Rally Dell Umbria - 2026
DESCRIPTION:Contact Organiser for more information…
URL:https://events2ride.eu/event/rally-dell-umbria-2026/
CATEGORIES:Rally and Raids
END:VEVENT
BEGIN:VEVENT
DTSTART;TZID=Europe/Brussels:20260423T090000
DTEND;TZID=Europe/Brussels:20260426T163000
DTSTAMP:20260425T033430
CREATED:20260409T152709Z
LAST-MODIFIED:20260409T152709Z
UID:10003152-1776934800-1777221000@events2ride.eu
SUMMARY:Start of Season (Ducati Zolder Live Experience 2026)
DESCRIPTION:Tijdens onze jaarlijkse “Live Experience” geven wij u de kans om uitgebreid kennis te maken met de Ducati van uw dromen.\nOok dit jaar nemen wij u op sleeptouw voor een begeleide rit van ongeveer 250 Km over een gevarieerd parcours. Tijdens deze rit wordt er een 3 tal keer haltgehouden om bij te praten en ervaringen uit te wisselen. Ook een tankstop wordt ingelast. ’s Middags stoppen wij op een plaats waar u eventueel een lichte lunch kan nuttigen.\nWenst u deel te nemen gelieve dan het inschrijvingsformulier (tickets) volledig in te vullen. Tijdens week 15 laten wij u weten of u bij de uitverkorenen bent. Op dat moment zullen wij u ook verzoeken om € 70\,- over te maken op onze rekening als bijdrage in de kosten. Mocht u daarna beslissen een motor bij ons aan te schaffen betalen wij deze met plezier terug.\nIndien u twijfelt tussen 2 motoren kan u dit altijd vermelden bij de opmerkingen en wij kijken wat we voor u kunnen regelen door eventueel halverwege te wisselen met andere deelnemers.\nHebt u geen plaatsje kunnen bemachtigen tijdens dit event weet dan dat deze motoren\, na reservatie\, de volgende maanden ter beschikking staan voor een uitgebreide individuele proefrit.
URL:https://events2ride.eu/event/start-of-season-ducati-zolder-live-experience-2026/
CATEGORIES:Test Days
ATTACH;FMTTYPE=image/jpeg:https://events2ride.eu/wp-content/uploads/event-dropper/2026-04-23-start-of-season-ducati-zolder-live-experience-2026.jpg
END:VEVENT
BEGIN:VEVENT
DTSTART;VALUE=DATE:20260424
DTEND;VALUE=DATE:20260426
DTSTAMP:20260425T033430
CREATED:20250923T110239Z
LAST-MODIFIED:20260416T155637Z
UID:10002082-1776988800-1777161599@events2ride.eu
SUMMARY:KRKA ENDURO RAID 2026
DESCRIPTION:Contact Organiser for more information…
URL:https://events2ride.eu/event/krka-enduro-raid-2026/
CATEGORIES:Competitions - Enduro,Rally and Raids
ATTACH;FMTTYPE=image/png:https://events2ride.eu/wp-content/uploads/EVENT-2026-04-24-KRKA-ENDURO-RAID-2026.png
END:VEVENT
BEGIN:VEVENT
DTSTART;VALUE=DATE:20260424
DTEND;VALUE=DATE:20260427
DTSTAMP:20260425T033430
CREATED:20251124T233605Z
LAST-MODIFIED:20251124T233605Z
UID:10002501-1776988800-1777247999@events2ride.eu
SUMMARY:Reet D'Opale 2026
DESCRIPTION:Contact organiser for more information…
URL:https://events2ride.eu/event/reet-dopale-2026/
CATEGORIES:Ride outs - All-road,Ride outs - Enduro
ATTACH;FMTTYPE=image/jpeg:https://events2ride.eu/wp-content/uploads/2026-04-24-reet-dopale-2026.jpg
END:VEVENT
BEGIN:VEVENT
DTSTART;TZID=Europe/Brussels:20260424T070000
DTEND;TZID=Europe/Brussels:20260426T180000
DTSTAMP:20260425T033430
CREATED:20260411T014211Z
LAST-MODIFIED:20260411T014211Z
UID:10003319-1777014000-1777226400@events2ride.eu
SUMMARY:Reet D'Opale 2026
DESCRIPTION:Onze Reet D’Opale IV wordt een memorabel driedaags weekend door het schitterende noorden van Frankrijk — en we willen jou erbij!\n📍 Wanneer: vrijdag 24 – zondag 26 april 2026\nMotoMentals – Premium Motorsports Events\n+1\n📍 Locatie: Noord-Frankrijk\, bivakend in tenten\nInbegrepen:\n• 3 rijdagen\n• 2 nachten kamperen\n• 3× ontbijt\, 2× avondmaal (inclusief BBQ op vrijdag)\n• Bagageservice\n• Pechverhelping tot aan het bivak\n• Officieel Reet D’Opale-shirt + stickers
URL:https://events2ride.eu/event/reet-dopale-2026-2/
CATEGORIES:Ride outs - All-road,Ride outs - Enduro
ATTACH;FMTTYPE=image/jpeg:https://events2ride.eu/wp-content/uploads/event-dropper/2026-04-24-reet-dopale-2026.jpg
END:VEVENT
BEGIN:VEVENT
DTSTART;TZID=Europe/Brussels:20260424T093000
DTEND;TZID=Europe/Brussels:20260426T160000
DTSTAMP:20260425T033430
CREATED:20260409T152709Z
LAST-MODIFIED:20260409T152709Z
UID:10003153-1777023000-1777219200@events2ride.eu
SUMMARY:Start Of Season Opendeurdagen
DESCRIPTION:🔥 Ducati Herzele – Start Of Season Opendeurdagen 2026 🔥\nHet nieuwe motorseizoen staat voor de deur en dat vieren we samen! 🏍️\nKom langs tijdens onze jaarlijkse Start Of Season Opendeurdagen en trap het seizoen in stijl af.\n👉 Wat mag je verwachten?\n✔️ Testritten met de nieuwste Ducati demomotoren van 2026\n✔️ Exclusieve acties op kledij\, accessoires & gadgets\n✔️ Heerlijke verse pasta voor al onze bezoekers 🍝\n🎉 Extra reden om langs te komen!\nWe vieren ook 2 jaar sinds de overname van onze zaak – wat een mooie periode is het al geweest! Bedankt aan al onze klanten en Ducatisti voor het vertrouwen ❤️\nWil je een testrit maken?\n📲 Schrijf je eenvoudig in via de Testcenter app: https://app.testcenterapp.com/fr/book/pBR7T6zRydHq\n📅 Wanneer?\nVrijdag 24 april: 9u30 – 18u\nZaterdag 25 april: 9u – 16u\nZondag 26 april: 9u – 16u\n📍 Ducati Herzele\nBreng je vrienden mee\, ontdek de nieuwste modellen en geniet van de unieke Ducati sfeer bij ons in de showroom.\nWe kijken ernaar uit om samen met jullie het seizoen knallend te starten! 🔴
URL:https://events2ride.eu/event/start-of-season-opendeurdagen/
CATEGORIES:Test Days
ATTACH;FMTTYPE=image/jpeg:https://events2ride.eu/wp-content/uploads/event-dropper/2026-04-24-start-of-season-opendeurdagen.jpg
END:VEVENT
BEGIN:VEVENT
DTSTART;VALUE=DATE:20260425
DTEND;VALUE=DATE:20260426
DTSTAMP:20260425T033430
CREATED:20260411T024654Z
LAST-MODIFIED:20260416T163950Z
UID:10003332-1777075200-1777161599@events2ride.eu
SUMMARY:Voorjaarsparty - Heracles MC Retie
DESCRIPTION:
URL:https://events2ride.eu/event/voorjaarsparty-heracles-mc-retie/
CATEGORIES:Parties Festivals and others
END:VEVENT
BEGIN:VEVENT
DTSTART;VALUE=DATE:20260425
DTEND;VALUE=DATE:20260426
DTSTAMP:20260425T033430
CREATED:20251208T153937Z
LAST-MODIFIED:20251210T225153Z
UID:10002669-1777075200-1777161599@events2ride.eu
SUMMARY:The Big 5 – Friends on wheels Antwerp – 15e editie 2026
DESCRIPTION:Een jaarlijks terugkerende motorrit van om en nabij 555 km.Je rijdt langs 5 controleposten\, om een deel van ons mooi Belgenland (of daarbuiten) te bewonderen\, door een roadbook of de route op je GPS (Garmin of Tom Tom) te volgen .\nDe start wordt gegeven om 7.00 uur ’s morgens en je dient voor 24.00 u terug binnen te zijn.\nDiegenen die deze rit uitrijden krijgen een vermaarde pin en vergaren alzo eeuwige roem.\nALLE MERKEN ZIJN WELKOM !\nInschrijvingen mogelijk vanaf medio januari 2026
URL:https://events2ride.eu/event/the-bigg-5-friends-on-wheels-antwerp-15e-editie-2026/
CATEGORIES:Gatherings,Harley Davidson Community,Ride outs - Road
ATTACH;FMTTYPE=image/jpeg:https://events2ride.eu/wp-content/uploads/2026-04-25-the-bigg-5-friends-on-wheels-antwerp-15e-editie-2026.jpg
END:VEVENT
BEGIN:VEVENT
DTSTART;VALUE=DATE:20260425
DTEND;VALUE=DATE:20260426
DTSTAMP:20260425T033430
CREATED:20260120T140213Z
LAST-MODIFIED:20260416T154608Z
UID:10002942-1777075200-1777161599@events2ride.eu
SUMMARY:MX  - Gierle - BOTC
DESCRIPTION:
URL:https://events2ride.eu/event/mx-gierle-botc/
CATEGORIES:Competitions – MX
END:VEVENT
BEGIN:VEVENT
DTSTART;VALUE=DATE:20260425
DTEND;VALUE=DATE:20260427
DTSTAMP:20260425T033430
CREATED:20251124T134536Z
LAST-MODIFIED:20260416T155947Z
UID:10002459-1777075200-1777161600@events2ride.eu
SUMMARY:FIM Grand Prix World Championship - Spain/Espagne
DESCRIPTION:Contact Organiser for more information…
URL:https://events2ride.eu/event/fim-grand-prix-world-championship-spain-espagne-4/
CATEGORIES:Competitions - Speed Racing
END:VEVENT
BEGIN:VEVENT
DTSTART;VALUE=DATE:20260425
DTEND;VALUE=DATE:20260427
DTSTAMP:20260425T033430
CREATED:20260114T234109Z
LAST-MODIFIED:20260416T154450Z
UID:10002838-1777075200-1777161600@events2ride.eu
SUMMARY:MX - Aalter
DESCRIPTION:
URL:https://events2ride.eu/event/mx-aalter-2/
CATEGORIES:Competitions – MX
END:VEVENT
BEGIN:VEVENT
DTSTART;VALUE=DATE:20260425
DTEND;VALUE=DATE:20260427
DTSTAMP:20260425T033430
CREATED:20260114T234132Z
LAST-MODIFIED:20260416T154514Z
UID:10002860-1777075200-1777161600@events2ride.eu
SUMMARY:MX -  SINSIN (TE BEVESTIGEN)
DESCRIPTION:
URL:https://events2ride.eu/event/mx-sinsin-te-bevestigen/
CATEGORIES:Competitions – MX
END:VEVENT
BEGIN:VEVENT
DTSTART;VALUE=DATE:20260425
DTEND;VALUE=DATE:20260427
DTSTAMP:20260425T033430
CREATED:20260114T234155Z
LAST-MODIFIED:20260416T154538Z
UID:10002886-1777075200-1777161600@events2ride.eu
SUMMARY:MX - MEERHOUT
DESCRIPTION:
URL:https://events2ride.eu/event/mx-meerhout/
CATEGORIES:Competitions – MX
END:VEVENT
BEGIN:VEVENT
DTSTART;VALUE=DATE:20260425
DTEND;VALUE=DATE:20260427
DTSTAMP:20260425T033430
CREATED:20260114T234211Z
LAST-MODIFIED:20260416T154553Z
UID:10002902-1777075200-1777161600@events2ride.eu
SUMMARY:Internationale Speedway Helzold
DESCRIPTION:
URL:https://events2ride.eu/event/internationale-speedway-helzold/
CATEGORIES:Competitions - Speedway
END:VEVENT
BEGIN:VEVENT
DTSTART;VALUE=DATE:20260425
DTEND;VALUE=DATE:20260427
DTSTAMP:20260425T033430
CREATED:20260114T234053Z
LAST-MODIFIED:20260416T154435Z
UID:10002817-1777075200-1777247999@events2ride.eu
SUMMARY:MX  - Gierle 
DESCRIPTION:
URL:https://events2ride.eu/event/mx-gierle/
CATEGORIES:Competitions – MX
END:VEVENT
BEGIN:VEVENT
DTSTART;TZID=Europe/Brussels:20260425T000000
DTEND;TZID=Europe/Brussels:20260426T235959
DTSTAMP:20260425T033430
CREATED:20260424T110526Z
LAST-MODIFIED:20260424T110526Z
UID:10003443-1777075200-1777247999@events2ride.eu
SUMMARY:MX AMPL Lierneux
DESCRIPTION:
URL:https://events2ride.eu/event/mx-ampl-lierneux/
CATEGORIES:Competitions – MX
ATTACH;FMTTYPE=image/jpeg:https://events2ride.eu/wp-content/uploads/event-dropper/2026-04-25-mx-ampl-lierneux.jpg
END:VEVENT
BEGIN:VEVENT
DTSTART;TZID=Europe/Brussels:20260425T000000
DTEND;TZID=Europe/Brussels:20260426T235959
DTSTAMP:20260425T033430
CREATED:20260424T113214Z
LAST-MODIFIED:20260424T113214Z
UID:10003461-1777075200-1777247999@events2ride.eu
SUMMARY:Iron Motors
DESCRIPTION:
URL:https://events2ride.eu/event/iron-motors/
CATEGORIES:Gatherings,Ride outs - Road
ATTACH;FMTTYPE=image/jpeg:https://events2ride.eu/wp-content/uploads/event-dropper/2026-04-25-iron-motors.jpg
END:VEVENT
BEGIN:VEVENT
DTSTART;VALUE=DATE:20260425
DTEND;VALUE=DATE:20260504
DTSTAMP:20260425T033430
CREATED:20251123T001906Z
LAST-MODIFIED:20251123T001930Z
UID:10002339-1777075200-1777852799@events2ride.eu
SUMMARY:SandRaiders Morocco 2026 - 11th edition
DESCRIPTION:Contact organiser for more information…
URL:https://events2ride.eu/event/sandraiders-morocco-2026-11th-edition/
CATEGORIES:Rally and Raids
ATTACH;FMTTYPE=image/jpeg:https://events2ride.eu/wp-content/uploads/2026-04-25-sandraiders-morocco-2026-11th-edition.jpg
END:VEVENT
BEGIN:VEVENT
DTSTART;TZID=Europe/Brussels:20260425T090000
DTEND;TZID=Europe/Brussels:20260426T170000
DTSTAMP:20260425T033430
CREATED:20260409T152710Z
LAST-MODIFIED:20260409T152710Z
UID:10003125-1777107600-1777222800@events2ride.eu
SUMMARY:Spring Open House @ American Lifestyle
DESCRIPTION:De eerste Open House van het jaar staat vast!\nZaterdag van 09h00 tot 17h00\nZondag van 10h00 tot 17h00
URL:https://events2ride.eu/event/spring-open-house-american-lifestyle/
CATEGORIES:Open Days
ATTACH;FMTTYPE=image/jpeg:https://events2ride.eu/wp-content/uploads/event-dropper/2026-04-25-spring-open-house-american-lifestyle.jpg
END:VEVENT
BEGIN:VEVENT
DTSTART;TZID=Europe/Brussels:20260425T090000
DTEND;TZID=Europe/Brussels:20260426T170000
DTSTAMP:20260425T033430
CREATED:20260411T014210Z
LAST-MODIFIED:20260411T014210Z
UID:10003324-1777107600-1777222800@events2ride.eu
SUMMARY:DARE - Dutch Adventure Ride Experience 2026 x CFMOTO
DESCRIPTION:DARE is een tweedaags adventure motor evenement gemaakt door rijders\, voor rijders. Een ervaring die voelt als een echt avontuur. Of je nu een ervaren TET-rijder bent of net je eerste stappen naast het asfalt zet\, dit weekend staat in het teken van ontdekken. Met een exclusieve opzet voor 500 tot 1000 bezoekers blijft de sfeer persoonlijk en authentiek.\n🗓️ 25-26 April 2026\n📍 Experience Island (Baan achter de Plakken 1\, 5175 NP Loon op Zand\, Netherlands)\n: cfmotobenelux.com/event/dare-2026\n🎟️ Tickets: dare-event.com/tickets
URL:https://events2ride.eu/event/dare-dutch-adventure-ride-experience-2026-x-cfmoto/
CATEGORIES:Gatherings,Parties Festivals and others,Test Days
ATTACH;FMTTYPE=image/jpeg:https://events2ride.eu/wp-content/uploads/event-dropper/2026-04-25-dare-dutch-adventure-ride-experience-2026-x-cfmoto.jpg
END:VEVENT
BEGIN:VEVENT
DTSTART;TZID=Europe/Brussels:20260425T090000
DTEND;TZID=Europe/Brussels:20260426T235959
DTSTAMP:20260425T033430
CREATED:20260424T113213Z
LAST-MODIFIED:20260424T113213Z
UID:10003460-1777107600-1777247999@events2ride.eu
SUMMARY:BFB Motorcyclists mss Rev-Up
DESCRIPTION:
URL:https://events2ride.eu/event/bfb-motorcyclists-mss-rev-up/
CATEGORIES:Gatherings,Ride outs - Road
ATTACH;FMTTYPE=image/jpeg:https://events2ride.eu/wp-content/uploads/event-dropper/2026-04-25-bfb-motorcyclists-mss-rev-up.jpg
END:VEVENT
BEGIN:VEVENT
DTSTART;TZID=Europe/Brussels:20260425T100000
DTEND;TZID=Europe/Brussels:20260426T170000
DTSTAMP:20260425T033430
CREATED:20260417T114749Z
LAST-MODIFIED:20260417T114749Z
UID:10003398-1777111200-1777222800@events2ride.eu
SUMMARY:Opendeurweekend bij MKC Moto Beringen
DESCRIPTION:🎉 Opendeurweekend MKC Moto Beringen 🎉\ni.s.m. Felix & Jos\nZaterdag 25 en zondag 26 april is het opnieuw tijd voor ons jaarlijkse opendeurweekend in Beringen. Op zondag gaan onze deuren reeds om 10u open!\nSamen met onze buren van Felix & Jos maken we er opnieuw een gezellig motorweekend van vol sfeer\, acties en leuke extra’s.\nWat mag je verwachten?\n🏍️ 10% korting op alles*\n🏍️ Gratis frietjes ter plaatse\n🏍️ Alpine aanmeetdag voor oordoppen op maat\n🏍️ Tal van Honda testritten bij Felix & Jos\n🏍️ Gezellige motorsfeer en leuke deals\nTijdens het weekend is er ook een Alpine consulente aanwezig voor het aanmeten van oordoppen op maat. Ideaal voor wie zijn gehoor wil beschermen tijdens het rijden.\nWil je zeker zijn van een plaats voor een aanmeting? Reserveer dan vooraf je afspraak\n👉 www.mkcmoto.com/be-nl/events/alpine-aanmeetdagen\nOok bij Felix & Jos valt er heel wat te beleven\, met tal van Honda testritten\, stockacties en interessante Spring Deals op geselecteerde modellen. Wil je zeker zijn van je testrit? Reserveer dan op voorhand.\n👉 www.felix-jos.be/opendeurdag\n📅 Zaterdag 25 & zondag 26 april 2026\n📍 MKC Moto Beringen\n*korting enkel geldig tijdens het weekend van 25 & 26 april. Korting niet geldig op reeds afgeprijsde producten\, maatwerk\, navigatiesystemen\, airbags en cadeaukaarten
URL:https://events2ride.eu/event/opendeurweekend-bij-mkc-moto-beringen/
CATEGORIES:Open Days,Test Days
ATTACH;FMTTYPE=image/jpeg:https://events2ride.eu/wp-content/uploads/event-dropper/2026-04-25-opendeurweekend-bij-mkc-moto-beringen.jpg
END:VEVENT
BEGIN:VEVENT
DTSTART;TZID=Europe/Brussels:20260425T100000
DTEND;TZID=Europe/Brussels:20260426T234500
DTSTAMP:20260425T033430
CREATED:20260409T165937Z
LAST-MODIFIED:20260409T165937Z
UID:10003228-1777111200-1777247100@events2ride.eu
SUMMARY:Opendeurweekend Hautekiet Moto's: Feel the Energy!
DESCRIPTION:Opendeurweekend Hautekiet Moto’s: Feel the Energy!\n📍Locatie: Hautekiet Moto’s\, De Leiteweg 4\, 8020 Ruddervoorde\n📆 Wanneer:\nZaterdag 25 april: 10:00 – 18:00\nZondag 26 april: 10:00 – …:…\n🏍️ Ontdek de nieuwste modellen: Bewonder de allernieuwste modellen van je favoriete merken! We tonen de nieuwste creaties van onder andere: KTM\, DUCATI & KAWASAKI\n🛣 Maak testritten: Wil je die ene motor echt ervaren? Doe een testrit met onze verschillende merken en modellen. Voel de kracht en de wegligging zelf!\n💥Mogelijkheid om je motor op de testbank te testen: Ben je benieuwd naar het werkelijke vermogen en de prestaties van je eigen motor?\n🍔🍺 Drank\, Foodtruck en Springkasteel: Voor de inwendige mens zorgen we ook! Geniet van heerlijke hapjes en drankjes bij de foodtrucks en les je dorst bij onze bar. En voor de kleintjes is er een te gek springkasteel!
URL:https://events2ride.eu/event/opendeurweekend-hautekiet-motos-feel-the-energy/
CATEGORIES:Open Days
ATTACH;FMTTYPE=image/jpeg:https://events2ride.eu/wp-content/uploads/event-dropper/2026-04-25-opendeurweekend-hautekiet-motos-feel-the-energy.jpg
END:VEVENT
BEGIN:VEVENT
DTSTART;TZID=Europe/Brussels:20260425T110000
DTEND;TZID=Europe/Brussels:20260425T180000
DTSTAMP:20260425T033430
CREATED:20260424T113213Z
LAST-MODIFIED:20260424T113213Z
UID:10003459-1777114800-1777140000@events2ride.eu
SUMMARY:Open Dag
DESCRIPTION:
URL:https://events2ride.eu/event/open-dag/
CATEGORIES:Open Days
ATTACH;FMTTYPE=image/jpeg:https://events2ride.eu/wp-content/uploads/event-dropper/2026-04-25-open-dag.jpg
END:VEVENT
BEGIN:VEVENT
DTSTART;TZID=Europe/Brussels:20260425T180000
DTEND;TZID=Europe/Brussels:20260425T180000
DTSTAMP:20260425T033430
CREATED:20260409T091532Z
LAST-MODIFIED:20260409T091532Z
UID:10003120-1777140000-1777140000@events2ride.eu
SUMMARY:Bike Meet @ BW MOTORS! | 25 April
DESCRIPTION:Kick-off Bike Meet bij BW Motors! 🏍️💨\nBen jij klaar voor het nieuwe motorseizoen? Vanaf april wordt de Battelsesteenweg dé place-to-be voor elke motorliefhebber. Elke laatste zaterdag van de maand toveren we BW Motors om tot de gezelligste ontmoetingsplek voor bikers uit de regio en ver daarbuiten.\nWat kan je verwachten?\nGood vibes & Drinks: Praat bij met oude bekenden of maak nieuwe vrienden tussen de mooiste machines.\nShow your ride: Of je nu met een custom chopper\, een snelle naked bike of een rasechte tourer komt; iedereen is welkom!\nExpertise: Onze showroom is open voor wie zin heeft om te snuisteren tussen de nieuwste modellen en accessoires.\n🚀 De Grote Kickoff: Zaterdag 25 april om 18u!\nMis de officiële start niet. Wij zorgen voor de sfeer\, jij voor de ronkende motoren!\n–\nℹ️ Contact & Info\n☎️ 015 33 72 69\n✉️ verkoop@bwmotors.shop\n📍 Battelsesteenweg 471\, 2800 Mechelen
URL:https://events2ride.eu/event/bike-meet-bw-motors-25-april/
CATEGORIES:Gatherings,Open Days
ATTACH;FMTTYPE=image/jpeg:https://events2ride.eu/wp-content/uploads/event-dropper/2026-04-25-bike-meet-bw-motors-25-april.jpg
END:VEVENT
BEGIN:VEVENT
DTSTART;TZID=Europe/Brussels:20260425T190000
DTEND;TZID=Europe/Brussels:20260425T233000
DTSTAMP:20260425T033430
CREATED:20251123T034920Z
LAST-MODIFIED:20251123T034920Z
UID:10002403-1777143600-1777159800@events2ride.eu
SUMMARY:Rock night Free Riders MC
DESCRIPTION:Contact organiser for more information…
URL:https://events2ride.eu/event/rock-night-free-riders-mc/
CATEGORIES:Parties Festivals and others
ATTACH;FMTTYPE=image/jpeg:https://events2ride.eu/wp-content/uploads/2026-04-25-rock-night-free-riders-mc.jpg
END:VEVENT
END:VCALENDAR