BEGIN:VCALENDAR
VERSION:2.0
PRODID:-//Events 2 Ride - ECPv6.15.20//NONSGML v1.0//EN
CALSCALE:GREGORIAN
METHOD:PUBLISH
X-WR-CALNAME:Events 2 Ride
X-ORIGINAL-URL:https://events2ride.eu
X-WR-CALDESC:Events for Events 2 Ride
REFRESH-INTERVAL;VALUE=DURATION:PT1H
X-Robots-Tag:noindex
X-PUBLISHED-TTL:PT1H
BEGIN:VTIMEZONE
TZID:Europe/Brussels
BEGIN:DAYLIGHT
TZOFFSETFROM:+0100
TZOFFSETTO:+0200
TZNAME:CEST
DTSTART:20250330T010000
END:DAYLIGHT
BEGIN:STANDARD
TZOFFSETFROM:+0200
TZOFFSETTO:+0100
TZNAME:CET
DTSTART:20251026T010000
END:STANDARD
BEGIN:DAYLIGHT
TZOFFSETFROM:+0100
TZOFFSETTO:+0200
TZNAME:CEST
DTSTART:20260329T010000
END:DAYLIGHT
BEGIN:STANDARD
TZOFFSETFROM:+0200
TZOFFSETTO:+0100
TZNAME:CET
DTSTART:20261025T010000
END:STANDARD
BEGIN:DAYLIGHT
TZOFFSETFROM:+0100
TZOFFSETTO:+0200
TZNAME:CEST
DTSTART:20270328T010000
END:DAYLIGHT
BEGIN:STANDARD
TZOFFSETFROM:+0200
TZOFFSETTO:+0100
TZNAME:CET
DTSTART:20271031T010000
END:STANDARD
END:VTIMEZONE
BEGIN:VEVENT
DTSTART;VALUE=DATE:20260206
DTEND;VALUE=DATE:20260427
DTSTAMP:20260419T231543
CREATED:20260106T205420Z
LAST-MODIFIED:20260416T160051Z
UID:10002692-1770336000-1777247999@events2ride.eu
SUMMARY:Art On Wheels - Italian & Belgian motorcycles
DESCRIPTION:Art on Wheels: Italian & Belgian Motorcycles – 6 febr tot 26 april 2026 in Squadra te Lier. \nEen must-see voor motorliefhebbers en designfans! \nDuik in een wereld van meer dan 70 historische motoren\, elk geselecteerd op hun verhaal\, design en authenticiteit. Ontdek hoe de iconische Vespa\, symbool van Italiaans design\, ook in België werd geproduceerd. Bewonder robuuste Belgische klassiekers en Italiaanse motoren die het land na WOII deden herleven\, een wereld waar techniek\, stijl en innovatie samenkomen. \nLaat je meevoeren door de wereld van racemotoren\, waarin België en Italië hun snelheid en esthetiek tentoonstellen\, en geniet van Italië’s speelse kant met motoren vernoemd naar dieren – van Vespa’s wesp tot Moto Guzzi’s haantje\, een poëtisch mechanisch bestiarium. \nKom en beleef de verhalen\, de passie en het vakmanschap op twee wielen! Met je ticket heb je toegang tot zowel Art on Wheels als de vaste collectie van het museum. Tickets op www.squadra.be \n 
URL:https://events2ride.eu/event/art-on-wheels-italian-belgian-motorcycles/
CATEGORIES:Oldtimer and classics Community,Vespa Community
ATTACH;FMTTYPE=image/jpeg:https://events2ride.eu/wp-content/uploads/2026-02-06-art-on-wheels-italian-belgian-motorcycles-scaled.jpg
END:VEVENT
BEGIN:VEVENT
DTSTART;VALUE=DATE:20260410
DTEND;VALUE=DATE:20260420
DTSTAMP:20260419T231543
CREATED:20251123T000454Z
LAST-MODIFIED:20251123T000454Z
UID:10002336-1775779200-1776643199@events2ride.eu
SUMMARY:Big Trail Challenge 2026
DESCRIPTION:Contact organiser for more information…
URL:https://events2ride.eu/event/big-trail-challenge-2026/
CATEGORIES:Rally and Raids
ATTACH;FMTTYPE=image/jpeg:https://events2ride.eu/wp-content/uploads/2026-04-10-big-trail-challenge-2026.jpg
END:VEVENT
BEGIN:VEVENT
DTSTART;TZID=Europe/Brussels:20260410T000000
DTEND;TZID=Europe/Brussels:20260419T235959
DTSTAMP:20260419T231543
CREATED:20260410T233722Z
LAST-MODIFIED:20260410T233722Z
UID:10003275-1775779200-1776643199@events2ride.eu
SUMMARY:Opendeurdagen Eko Wear
DESCRIPTION:
URL:https://events2ride.eu/event/opendeurdagen-eko-wear/
CATEGORIES:Open Days
ATTACH;FMTTYPE=image/jpeg:https://events2ride.eu/wp-content/uploads/event-dropper/2026-04-10-opendeurdagen-eko-wear.jpg
END:VEVENT
BEGIN:VEVENT
DTSTART;TZID=Europe/Brussels:20260414T090000
DTEND;TZID=Europe/Brussels:20260419T160000
DTSTAMP:20260419T231543
CREATED:20260409T165937Z
LAST-MODIFIED:20260409T165937Z
UID:10003217-1776157200-1776614400@events2ride.eu
SUMMARY:FEESTELIJKE OPENINGSWEEK!
DESCRIPTION:Van dinsdag 14 tot en met zondag 19 april houden wij onze FEESTELIJKE OPENINGSWEEK\, een volledige week vol fun tussen onze moto’s 🏍️ en scooters 🛵!\nDit is de ideale gelegenheid om onze gloednieuwe winkel te ontdekken én kennis te maken met onze nieuwe merken en modellen.\nNatuurlijk voorzien we ook testritten\, zodat je alles zelf kan ervaren.\nDeelnemen aan onze opendeurritten op zaterdag 18 & zondag 19 april? hier:\nhttps://fb.me/e/4hve6fjfk & https://fb.me/e/6Jzcum6Us\nJij komt toch ook?\nPrik deze data alvast in je agenda 😉\nWij kijken er alvast naar uit! 🎉
URL:https://events2ride.eu/event/feestelijke-openingsweek/
CATEGORIES:Open Days
ATTACH;FMTTYPE=image/jpeg:https://events2ride.eu/wp-content/uploads/event-dropper/2026-04-14-feestelijke-openingsweek.jpg
END:VEVENT
BEGIN:VEVENT
DTSTART;VALUE=DATE:20260417
DTEND;VALUE=DATE:20260420
DTSTAMP:20260419T231543
CREATED:20260410T013419Z
LAST-MODIFIED:20260410T014517Z
UID:10003246-1776384000-1776643199@events2ride.eu
SUMMARY:BAZA 500 RAID
DESCRIPTION:RAID 600KMS THROUGH \nSpanish Semi-Desert \n  \nBAZA 500 Raid is an incursion into a perfect territory for off-roading in the Baza region of Andalucía\, Spain. Overall\, you will explore more than 600kms of tracks with roadbook and GPS navigation. \nFirstly\, the paddock will be located in FREILA where the bivouac area is set up for camping during the weekend. A dining tent will be set up for breakfast and dinner oFriday\, Saturday and Sunday. Saturday Stage includes a picnic bag for lunch. Additionally\, every night after dinner and prior to the stages on Saturday and Sunday\, a briefing will be given with route details and explanations. \nBAZA 500 Raid will be structured in 3 stages: a small prologue stage on Friday\, 395kms (pro category) for the Saturday stage and 200kms on Sunday. \nIn the ROADBOOK category you will ride roadbooks that will include all the elements of a FIM RALLY. You will have to validate waypoints\, respect zones with speed limits\, masked waypoints\, etc. \nIn the GPS category we are going to put a lot of emphasis on providing basic information about the route in terms of technical difficulties or obstacles. You will have to consult the waypoints in advance at each start of the stage. To do this\, we will provide a printed chart to help you with identification.
URL:https://events2ride.eu/event/baza-500-raid/
CATEGORIES:Rally and Raids
ATTACH;FMTTYPE=image/jpeg:https://events2ride.eu/wp-content/uploads/cartel-Baza-500-2026-1-e1763560296742.jpeg
END:VEVENT
BEGIN:VEVENT
DTSTART;VALUE=DATE:20260417
DTEND;VALUE=DATE:20260420
DTSTAMP:20260419T231543
CREATED:20251111T044357Z
LAST-MODIFIED:20260416T155844Z
UID:10002275-1776384000-1776643199@events2ride.eu
SUMMARY:49e Cobrastreffen
DESCRIPTION:Graag bieden we met trots onze flyer aan voor het 49e COBRASTREFFEN\, hét motortreffen dat je absoluut niet mag missen\n\n\nWat mag je verwachten?\n\n\n• Een sfeervol motortreffen\n\n\n• Een prachtige 150 km rondrit\n\n\nMet een gezellige ontvangst op vrijdag (14u–20u) en zaterdag/zondag (8u–16u)\n\n\nMet vriendelijke Bikers groeten\n\n\nNimfo\n\n\nPresident\n\n\nMTC Cobra’s
URL:https://events2ride.eu/event/49e-cobrastreffen/
CATEGORIES:Ride outs - Road
ATTACH;FMTTYPE=image/jpeg:https://events2ride.eu/wp-content/uploads/2026-04-17-49e-cobrastreffen.jpg
END:VEVENT
BEGIN:VEVENT
DTSTART;TZID=Europe/Brussels:20260417T000000
DTEND;TZID=Europe/Brussels:20260419T235959
DTSTAMP:20260419T231543
CREATED:20260413T214639Z
LAST-MODIFIED:20260413T214639Z
UID:10003355-1776384000-1776643199@events2ride.eu
SUMMARY:49e Cobratreffen
DESCRIPTION:
URL:https://events2ride.eu/event/49e-cobratreffen/
CATEGORIES:Gatherings,Ride outs - Road
ATTACH;FMTTYPE=image/jpeg:https://events2ride.eu/wp-content/uploads/event-dropper/2026-04-17-49e-cobratreffen.jpg
END:VEVENT
BEGIN:VEVENT
DTSTART;VALUE=DATE:20260418
DTEND;VALUE=DATE:20260420
DTSTAMP:20260419T231543
CREATED:20251124T134535Z
LAST-MODIFIED:20260416T155915Z
UID:10002414-1776470400-1776643199@events2ride.eu
SUMMARY:24h Motos – Le Mans
DESCRIPTION:Contact Organiser for more information…
URL:https://events2ride.eu/event/24h-motos-le-mans/
LOCATION:Circuit de la Sarthe – Le Mans
CATEGORIES:Competitions - Endurance Cross
ATTACH;FMTTYPE=image/jpeg:https://events2ride.eu/wp-content/uploads/2026-04-18-24h-motos-le-mans.jpg
END:VEVENT
BEGIN:VEVENT
DTSTART;VALUE=DATE:20260418
DTEND;VALUE=DATE:20260420
DTSTAMP:20260419T231543
CREATED:20260114T234147Z
LAST-MODIFIED:20260416T154530Z
UID:10002875-1776470400-1776643199@events2ride.eu
SUMMARY:MX - HAACHT - BOTC
DESCRIPTION:
URL:https://events2ride.eu/event/mx-haacht-botc/
CATEGORIES:Competitions – MX
ATTACH;FMTTYPE=image/jpeg:https://events2ride.eu/wp-content/uploads/event-dropper/655409915_26616811217914532_1398109170296530257_n.jpg
END:VEVENT
BEGIN:VEVENT
DTSTART;VALUE=DATE:20260418
DTEND;VALUE=DATE:20260420
DTSTAMP:20260419T231543
CREATED:20250923T110239Z
LAST-MODIFIED:20260416T155701Z
UID:10002104-1776470400-1776643199@events2ride.eu
SUMMARY:Indiana Raid
DESCRIPTION:Indiana RaidMini raid de 2 jours à travers les Ardennes belges \, dans les provinces de Liège et du Luxembourg \, qui vous emmènera jusqu’à Chiny\, dans le sud de la Belgique . Vous découvrirez des chemins authentiques de nos Ardennes belges\, traverserez des petits villages ardennais typiques  et profiterez de la beauté de la région.Un repas du soir commun vous attendra \, pour partager vos meilleurs moments de la journée  et faire connaissance avec les autres participants. Le lendemain\, une nouvelle trace vous attend\, tout aussi sympa\, à travers les campagnes ardennaises .Rejoignez-nous dans cette belle aventure belge !  \nObjectif IndianaMême tracé que l’Indiana Raid\, mais plus soft  ! Nous avons sélectionné les plus belles pistes et garder que celle avec assise dure style gravel ainsi que les petites routes de campagne sinueuses \, en évitant les parties herbeuses et orniérées \, pour vous offrir un parcours sans stress et sans risque de chute . Parfait pour les maxitrails sans pneus à tétines \, les débutants  et les conducteurs qui ont décidé de prendre un passager  ! Ce parcours est tout aussi beau que l’Indiana Raid\, mais avec le stress de la chute en moins \, pour que vous puissiez profiter pleinement du relief ardennais  et arriver à bon port sans égratignures .Rejoignez-nous pour une aventure en Ardenne belge ! “
URL:https://events2ride.eu/event/indiana-raid/
CATEGORIES:Vacations - Offroad
ATTACH;FMTTYPE=image/jpeg:https://events2ride.eu/wp-content/uploads/2026-04-18-indiana-raid.jpg
END:VEVENT
BEGIN:VEVENT
DTSTART;VALUE=DATE:20260418
DTEND;VALUE=DATE:20260420
DTSTAMP:20260419T231543
CREATED:20251122T234437Z
LAST-MODIFIED:20251122T235520Z
UID:10002329-1776470400-1776643199@events2ride.eu
SUMMARY:BTT Championship race weekend - Croix-en-Ternois
DESCRIPTION:Contact organiser for more information…
URL:https://events2ride.eu/event/btt-championship-race-weekend-croix-en-ternois/
LOCATION:Circuit de Croix-en-Ternois
CATEGORIES:Competitions - Speed Racing
ATTACH;FMTTYPE=image/jpeg:https://events2ride.eu/wp-content/uploads/2026-04-18-btt-championship-race-weekend-croix-en-ternois.jpg
END:VEVENT
BEGIN:VEVENT
DTSTART;VALUE=DATE:20260418
DTEND;VALUE=DATE:20260420
DTSTAMP:20260419T231543
CREATED:20260114T035624Z
LAST-MODIFIED:20260114T035624Z
UID:10002756-1776470400-1776643199@events2ride.eu
SUMMARY:Retro Mantes Salon Vintage
DESCRIPTION:Contact organiser for more information…
URL:https://events2ride.eu/event/retro-mantes-salon-vintage/
CATEGORIES:Markets Sales Fairs,Oldtimer and classics Community
ATTACH;FMTTYPE=image/jpeg:https://events2ride.eu/wp-content/uploads/2026-04-18-retro-mantes-salon-vintage.jpg
END:VEVENT
BEGIN:VEVENT
DTSTART;VALUE=DATE:20260418
DTEND;VALUE=DATE:20260420
DTSTAMP:20260419T231543
CREATED:20260131T020355Z
LAST-MODIFIED:20260416T160128Z
UID:10003067-1776470400-1776643199@events2ride.eu
SUMMARY:initiation a la moto éléctrique
DESCRIPTION:Contact organiser for more information…
URL:https://events2ride.eu/event/initiation-a-la-moto-electrique/
CATEGORIES:Kids and Youth,Skills Training - Offroad
ATTACH;FMTTYPE=image/jpeg:https://events2ride.eu/wp-content/uploads/2026-04-18-initiation-a-la-moto-electrique.jpg
END:VEVENT
BEGIN:VEVENT
DTSTART;TZID=Europe/Brussels:20260418T000000
DTEND;TZID=Europe/Brussels:20260419T235959
DTSTAMP:20260419T231543
CREATED:20260410T233722Z
LAST-MODIFIED:20260410T233722Z
UID:10003279-1776470400-1776643199@events2ride.eu
SUMMARY:Tour du hainaut
DESCRIPTION:
URL:https://events2ride.eu/event/tour-du-hainaut/
CATEGORIES:Ride outs - Road
ATTACH;FMTTYPE=image/jpeg:https://events2ride.eu/wp-content/uploads/event-dropper/2026-04-18-tour-du-hainaut.jpg
END:VEVENT
BEGIN:VEVENT
DTSTART;TZID=Europe/Brussels:20260418T000000
DTEND;TZID=Europe/Brussels:20260419T235959
DTSTAMP:20260419T231543
CREATED:20260413T214638Z
LAST-MODIFIED:20260413T214638Z
UID:10003353-1776470400-1776643199@events2ride.eu
SUMMARY:FIM SIDECARCROSS World Championship
DESCRIPTION:
URL:https://events2ride.eu/event/fim-sidecarcross-world-championship/
CATEGORIES:Competitions
ATTACH;FMTTYPE=image/jpeg:https://events2ride.eu/wp-content/uploads/event-dropper/2026-04-18-fim-sidecarcross-world-championship.jpg
END:VEVENT
BEGIN:VEVENT
DTSTART;TZID=Europe/Brussels:20260418T000000
DTEND;TZID=Europe/Brussels:20260419T235959
DTSTAMP:20260419T231543
CREATED:20260416T114029Z
LAST-MODIFIED:20260416T114029Z
UID:10003394-1776470400-1776643199@events2ride.eu
SUMMARY:MX LAARNE 2026
DESCRIPTION:
URL:https://events2ride.eu/event/mx-laarne-2026/
CATEGORIES:Competitions – MX
ATTACH;FMTTYPE=image/jpeg:https://events2ride.eu/wp-content/uploads/event-dropper/2026-04-18-mx-laarne-2026.jpg
END:VEVENT
BEGIN:VEVENT
DTSTART;TZID=Europe/Brussels:20260418T000000
DTEND;TZID=Europe/Brussels:20260419T235959
DTSTAMP:20260419T231543
CREATED:20260417T121754Z
LAST-MODIFIED:20260417T121754Z
UID:10003414-1776470400-1776643199@events2ride.eu
SUMMARY:Opendeur en testweekend Triumph Wevelgem
DESCRIPTION:
URL:https://events2ride.eu/event/opendeur-en-testweekend-triumph-wevelgem/
CATEGORIES:Open Days,Test Days
ATTACH;FMTTYPE=image/jpeg:https://events2ride.eu/wp-content/uploads/event-dropper/2026-04-18-opendeur-en-testweekend-triumph-wevelgem.jpg
END:VEVENT
BEGIN:VEVENT
DTSTART;TZID=Europe/Brussels:20260418T000000
DTEND;TZID=Europe/Brussels:20260419T235959
DTSTAMP:20260419T231543
CREATED:20260417T121755Z
LAST-MODIFIED:20260417T121755Z
UID:10003417-1776470400-1776643199@events2ride.eu
SUMMARY:OIpendeurdagen Harley-Davidson RMC Classics
DESCRIPTION:
URL:https://events2ride.eu/event/oipendeurdagen-harley-davidson-rmc-classics/
CATEGORIES:Harley Davidson Community,Open Days
ATTACH;FMTTYPE=image/jpeg:https://events2ride.eu/wp-content/uploads/event-dropper/2026-04-18-oipendeurdagen-harley-davidson-rmc-classics.jpg
END:VEVENT
BEGIN:VEVENT
DTSTART;VALUE=DATE:20260418
DTEND;VALUE=DATE:20260425
DTSTAMP:20260419T231543
CREATED:20250923T110239Z
LAST-MODIFIED:20260416T155757Z
UID:10002162-1776470400-1777075199@events2ride.eu
SUMMARY:Carta Rally - 2026
DESCRIPTION:Contact Organiser for more information…
URL:https://events2ride.eu/event/carta-rally-2026/
CATEGORIES:Rally and Raids
END:VEVENT
BEGIN:VEVENT
DTSTART;VALUE=DATE:20260418
DTEND;VALUE=DATE:20260425
DTSTAMP:20260419T231543
CREATED:20251203T201623Z
LAST-MODIFIED:20251203T201803Z
UID:10002659-1776470400-1777075199@events2ride.eu
SUMMARY:Carta Rally
DESCRIPTION:Contact organiser for more information…
URL:https://events2ride.eu/event/carta-rally/
CATEGORIES:Rally and Raids
ATTACH;FMTTYPE=image/jpeg:https://events2ride.eu/wp-content/uploads/2026-04-18-carta-rally.jpg
END:VEVENT
BEGIN:VEVENT
DTSTART;TZID=Europe/Brussels:20260418T080000
DTEND;TZID=Europe/Brussels:20260419T180000
DTSTAMP:20260419T231543
CREATED:20260409T165937Z
LAST-MODIFIED:20260409T165937Z
UID:10003230-1776499200-1776621600@events2ride.eu
SUMMARY:21ste betonstuivers treffen
DESCRIPTION:Opgelet!!!\nAndere start locatie\nCc DE WISSEL\nTramstraat 6-8\n8750 ZWEVEZELE
URL:https://events2ride.eu/event/21ste-betonstuivers-treffen/
CATEGORIES:Ride outs - Road
ATTACH;FMTTYPE=image/jpeg:https://events2ride.eu/wp-content/uploads/event-dropper/2026-04-18-21ste-betonstuivers-treffen.jpg
END:VEVENT
BEGIN:VEVENT
DTSTART;TZID=Europe/Brussels:20260418T090000
DTEND;TZID=Europe/Brussels:20260419T160000
DTSTAMP:20260419T231543
CREATED:20260409T165937Z
LAST-MODIFIED:20260409T165937Z
UID:10003221-1776502800-1776614400@events2ride.eu
SUMMARY:BMW Motorrad Ride & Test Days – Oostende (18 & 19 april)
DESCRIPTION:Ride Season is Back.\nOp zaterdag 18 en zondag 19 april ben je welkom bij M&M Inghelbrecht in Oostende voor onze BMW Motorrad Ride & Test Days.\nTwee dagen lang staan er 19 BMW testmotoren voor je klaar.\nVan de nieuwste R 1300 GS met ASA tot de sportieve S 1000 RR en de luxueuze K 1600 GTL.\nDit is hét moment om te voelen\, vergelijken en ontdekken welke motor écht bij je past.\nWat mag je verwachten?\n• Begeleide proefritten op de weg\n• 19 verschillende BMW modellen\n• Acties op BMW Motorrad kleding\n• Let’s Go Deals op geselecteerde motoren\n• Gezellige sfeer in de showroom\nModellen die je kan testen\nR 1300 GS (ASA) – R 1300 RT (ASA)\nR 1300 R – R 1300 RS\nS 1000 R – S 1000 RR – S 1000 XR\nF 900 GS – F 900 GSA – F 900 XR – F 900 R (A2)\nF 800 GS (lage ophanging)\nK 1600 GTL\nR 12 S – R 12 GS\nR 18 Classic – R 18 Transcontinental\nCE 04 – C 400 GT\nWil je zeker zijn van jouw favoriete model?\nDan reserveer je best op voorhand.\nDe plaatsen per motor zijn beperkt en bepaalde modellen zijn snel volgeboekt.\nReserveer hier:\nhttps://bmwmotorrad-rtd.be/MMInghelbrecht2026/\nLangskomen zonder reservatie kan\, maar beschikbaarheid is niet gegarandeerd.
URL:https://events2ride.eu/event/bmw-motorrad-ride-test-days-oostende-18-19-april/
CATEGORIES:Open Days,Test Days
ATTACH;FMTTYPE=image/jpeg:https://events2ride.eu/wp-content/uploads/event-dropper/2026-04-18-bmw-motorrad-ride-test-days-oostende-18-19-april.jpg
END:VEVENT
BEGIN:VEVENT
DTSTART;TZID=Europe/Brussels:20260418T093000
DTEND;TZID=Europe/Brussels:20260419T180000
DTSTAMP:20260419T231543
CREATED:20260409T152709Z
LAST-MODIFIED:20260409T152709Z
UID:10003170-1776504600-1776621600@events2ride.eu
SUMMARY:Triumph Wevelgem Opendeur+ testweekend
DESCRIPTION:🔥 OPENDEUR + TESTWEEKEND bij Triumph Wevelgem 🔥\n📅 Zaterdag 18 & zondag 19 april\nAltijd al eens willen weten hoe een Triumph écht rijdt?\nDit is je kans. Kom langs tijdens ons opendeurweekend en test zelf de nieuwste modellen. 🏍️\nhttps://triumphwevelgem.us15.list-manage.com/track/click?u=5ab857105ab476fdc8bb3fef1&id=d5a08d5719&e=68fc1df8c9\n👉 Testritten van 1 uur\n👉 Max. 2 testritten per persoon\n👉 €10 per testrit\n💡 Volledig terugbetaald bij aankoop van een nieuwe of tweedehands Triumph\n🍔 Tussen 12u en 15u trakteren wij op een gratis hamburger\n(Eerst rijden\, dan eten… of omgekeerd 😏)\n🎁 Geniet van verschillende promo’s en acties in onze showroom\nAlleen tijdens het opendeurweekend.\nVan brute power tot pure finesse… er staat voor iedereen iets klaar:\n💥 Rocket 3 GT Storm\n💥 Daytona 660\n💥 Speed Triple 1200 RS\n💥 Tiger 1200 Rally Explorer\n💥 Tiger Sport 800\n💥 Street Triple 765\n💥 Trident 660 & 800\n💥 Bobber\, T120\, Scrambler 1200 XE\n… en nog veel meer 😎\nKort samengevat:\n👉 Kom kijken\n👉 Kom testen\n👉 Kom genieten\n📍 Triumph Wevelgem\n📞 056 40 31 35\n📨 info@triumphwevelgem.com\nReserveer op voorhand en verzeker je plek!
URL:https://events2ride.eu/event/triumph-wevelgem-opendeur-testweekend/
CATEGORIES:Open Days,Test Days
ATTACH;FMTTYPE=image/jpeg:https://events2ride.eu/wp-content/uploads/event-dropper/2026-04-18-triumph-wevelgem-opendeur-testweekend.jpg
END:VEVENT
BEGIN:VEVENT
DTSTART;TZID=Europe/Brussels:20260418T100000
DTEND;TZID=Europe/Brussels:20260419T170000
DTSTAMP:20260419T231543
CREATED:20260409T152710Z
LAST-MODIFIED:20260409T152710Z
UID:10003124-1776506400-1776618000@events2ride.eu
SUMMARY:open house
DESCRIPTION:Op 18 en 19 april zwieren we onze deuren open voor de spring Open House.\nOns Zenne-Dyle-Chapter zorgt voor eten en drinken.\nOp zondag namiddag treedt Stonewash op.\nIedereen welkom!
URL:https://events2ride.eu/event/open-house/
CATEGORIES:Harley Davidson Community,Open Days
ATTACH;FMTTYPE=image/jpeg:https://events2ride.eu/wp-content/uploads/event-dropper/2026-04-18-open-house.jpg
END:VEVENT
BEGIN:VEVENT
DTSTART;TZID=Europe/Brussels:20260418T180000
DTEND;TZID=Europe/Brussels:20260419T150000
DTSTAMP:20260419T231543
CREATED:20260409T165936Z
LAST-MODIFIED:20260409T165936Z
UID:10003238-1776535200-1776610800@events2ride.eu
SUMMARY:Eetfestijn Mtc The Bridge Wetteren
DESCRIPTION:Zaterdag 18 april van 18 tot 21uur\nZondag 19 april van 12-14uur\nRibbetjes à volonté met groentjes en frietjes 25euro per persoon\nBalletjes in tomatensaus met frietjes 12\,50euro voor de -12jarigen
URL:https://events2ride.eu/event/eetfestijn-mtc-the-bridge-wetteren/
CATEGORIES:Parties Festivals and others
ATTACH;FMTTYPE=image/jpeg:https://events2ride.eu/wp-content/uploads/event-dropper/2026-04-18-eetfestijn-mtc-the-bridge-wetteren.jpg
END:VEVENT
BEGIN:VEVENT
DTSTART;VALUE=DATE:20260419
DTEND;VALUE=DATE:20260420
DTSTAMP:20260419T231543
CREATED:20250923T110238Z
LAST-MODIFIED:20260416T155637Z
UID:10002077-1776556800-1776643199@events2ride.eu
SUMMARY:Balade Vespa O Coffea - 3ème édition
DESCRIPTION:Contact Organiser for more information…
URL:https://events2ride.eu/event/balade-vespa-o-coffea-3eme-edition/
CATEGORIES:Ride outs - Scooters and mopeds,Vespa Community
ATTACH;FMTTYPE=image/png:https://events2ride.eu/wp-content/uploads/EVENT-2026-04-19-Balade-Vespa-O-Coffea-3eme-edition.png
END:VEVENT
BEGIN:VEVENT
DTSTART;VALUE=DATE:20260419
DTEND;VALUE=DATE:20260420
DTSTAMP:20260419T231543
CREATED:20251123T030721Z
LAST-MODIFIED:20251123T031052Z
UID:10002377-1776556800-1776643199@events2ride.eu
SUMMARY:Rassemblement des Zébus
DESCRIPTION:Contact organiser for more information…
URL:https://events2ride.eu/event/rassemblement-des-zebus/
CATEGORIES:Ride outs - Road
END:VEVENT
BEGIN:VEVENT
DTSTART;VALUE=DATE:20260419
DTEND;VALUE=DATE:20260420
DTSTAMP:20260419T231543
CREATED:20251210T231040Z
LAST-MODIFIED:20260416T160051Z
UID:10002676-1776556800-1776643199@events2ride.eu
SUMMARY:18de jaarlijkse ride-out
DESCRIPTION:CANCELLED !!!
URL:https://events2ride.eu/event/18de-jaarlijkse-ride-out/
CATEGORIES:Harley Davidson Community,Ride outs - Road
ATTACH;FMTTYPE=image/jpeg:https://events2ride.eu/wp-content/uploads/670557454_26828955446700107_6898133158748295418_n.jpg
END:VEVENT
BEGIN:VEVENT
DTSTART;VALUE=DATE:20260419
DTEND;VALUE=DATE:20260420
DTSTAMP:20260419T231543
CREATED:20260114T035816Z
LAST-MODIFIED:20260114T035816Z
UID:10002757-1776556800-1776643199@events2ride.eu
SUMMARY:Bourse d'échange
DESCRIPTION:Contact organiser for more information…
URL:https://events2ride.eu/event/bourse-dechange/
CATEGORIES:Markets Sales Fairs,Oldtimer and classics Community
ATTACH;FMTTYPE=image/jpeg:https://events2ride.eu/wp-content/uploads/2026-04-19-bourse-dechange.jpg
END:VEVENT
BEGIN:VEVENT
DTSTART;VALUE=DATE:20260419
DTEND;VALUE=DATE:20260420
DTSTAMP:20260419T231543
CREATED:20260114T040028Z
LAST-MODIFIED:20260114T040028Z
UID:10002758-1776556800-1776643199@events2ride.eu
SUMMARY:Open Kempen Rit - 2Nowhere
DESCRIPTION:Contact organiser for more information…
URL:https://events2ride.eu/event/open-kempen-rit-2nowhere/
CATEGORIES:Ride outs - Road
ATTACH;FMTTYPE=image/jpeg:https://events2ride.eu/wp-content/uploads/2026-04-19-open-kempen-rit-2nowhere.jpg
END:VEVENT
END:VCALENDAR